Workbook
Name _Fill: #REF!
Name fillPlayers: Igralke!$B$2:$I$19
Name fillPlayers_1: Igralke!$B$2:$I$19
Name fillPlayers_2: Igralke!$B$2
Name fillPlayers_3: Igralke!$B$2:$I$19
Name fillPlayers_4: Igralke!$B$2:$I$17
Name fillPlayers_5: Igralke!$B$2:$I$4
Name fillPlayers_6: Igralke!$B$2:$H$15
Name fillPlayers_7: Igralke!$B$2

Sheet Igralke
A1: Seed | B1: Ime | C1: Priimek | D1: 45466 | E1: Ime | F1: Priimek | I1: Teamname Player 1/Player 2
A2: 1 | B2: Anja | C2: Činku | E2: Klara | F2: Pirih | I2: Činku/Pirih
A3: 2 | B3: Katjuša | C3: Plot | E3: Neja | F3: Železnik | I3: Plot/Železnik
A4: 3 | B4: Pia | C4: Pintar | E4: Žana | F4: Hrovat | I4: Pintar/Hrovat
A5: 4 | B5: Vita | C5: Ferk | E5: Špela | F5: Pečovnik | I5: Ferk/Pečovnik
A6: 5 | B6: Sara | C6: Gorenc Valenta | E6: Tara | F6: Torej | I6: Gorenc Valenta/Torej
A7: 6 | B7: Hana | C7: Bakan | E7: Hana | F7: Strle | I7: Bakan/Strle
A8: 7 | B8: Dita | C8: Reflak | E8: Brina | F8: Reflak | I8: Reflak/Reflak
A9: 8 | B9: Jerca | C9: Vergelj | E9: Pia | F9: Primožič | I9: Vergelj/Primožič
A10: 9 | B10: Natalija | C10: Stojanovič | E10: Lara | F10: Sajovic | I10: Sajovic/Stojanović
A11: 10 | B11: Asja | C11: Bukovnik | E11: Julija | F11: Četina | I11: Bukovnik/Četina
A12: 11 | B12: Leni | C12: Ficko | E12: Kaja | F12: Anzin | I12: Anžin/Ficko
A13: 12 | B13: Polona | C13: Trček | E13: Eva | F13: Pangerc | I13: Trček/Pangerc
... A18: 17 | B18: Veronika | C18: Kolmanič | E18: Ela | F18: Bakan | I18: Kolmanič/Bakan
A19: 18 | I19: =CONCATENATE(B19," / ",E19) -> /
A20: 19 | I20: =CONCATENATE(B20," / ",E20) -> /
A21: 20 | I21: =CONCATENATE(B21," / ",E21) -> /
A22: 21 | I22: =CONCATENATE(B22," / ",E22) -> /
A23: 22 | I23: =CONCATENATE(B23," / ",E23) -> /
A24: 23 | I24: =CONCATENATE(B24," / ",E24) -> /
A25: 24 | I25: =CONCATENATE(B25," / ",E25) -> /

Sheet Rezultati
A1: St.tekme | B1: Krog | C1: Čas | D1: Team 1 | E1: vs | F1: Team 2 | G1: Rezultat | J1: Igrišče | K1: 1. Set | N1: 2. Set | Q1: 3. Set
A2: 1 | B2: I | C2: 0.375 | D2: =IF(Igralke!$I$17=" / ",CONCATENATE("Seed #",Igralke!$A$17),Igralke!$I$17) -> Gašperlin/Adrovič Flisar | E2: vs | F2: =IF(Igralke!$I$18=" / ",CONCATENATE("Seed #",Igralke!$A$18),Igralke!$I$18) -> Kolmanič/Bakan | G2: 0 | H2: <-> | I2: 2 | J2: 1 | K2: 7 | L2: <-> | M2: 15 | N2: 11 | O2: <-> | P2: 15 | R2: <->
A3: 2 | B3: I | D3: =IF(Igralke!$I$10=" / ",CONCATENATE("Seed #",Igralke!$A$10),Igralke!$I$10) -> Sajovic/Stojanović | E3: vs | F3: =IF(Igralke!$I$25=" / ",CONCATENATE("Seed #",Igralke!$A$25),Igralke!$I$25) -> Seed #24 | G3: 2 | H3: <-> | I3: 0 | L3: <-> | O3: <-> | R3: <->
A4: 3 | B4: I | D4: =IF(Igralke!$I$13=" / ",CONCATENATE("Seed #",Igralke!$A$13),Igralke!$I$13) -> Trček/Pangerc | E4: vs | F4: =IF(Igralke!$I$22=" / ",CONCATENATE("Seed #",Igralke!$A$22),Igralke!$I$22) -> Seed #21 | G4: 2 | H4: <-> | I4: 0 | L4: <-> | O4: <-> | R4: <->
A5: 4 | B5: I | D5: =IF(Igralke!$I$14=" / ",CONCATENATE("Seed #",Igralke!$A$14),Igralke!$I$14) -> Auda/Zore | E5: vs | F5: =IF(Igralke!$I$21=" / ",CONCATENATE("Seed #",Igralke!$A$21),Igralke!$I$21) -> Seed #20 | G5: 2 | H5: <-> | I5: 0 | L5: <-> | O5: <-> | R5: <->
A6: 5 | B6: I | D6: =IF(Igralke!$I$15=" / ",CONCATENATE("Seed #",Igralke!$A$15),Igralke!$I$15) -> Božiček/Kenda | E6: vs | F6: =IF(Igralke!$I$20=" / ",CONCATENATE("Seed #",Igralke!$A$20),Igralke!$I$20) -> Seed #19 | G6: 2 | H6: <-> | I6: 0 | L6: <-> | O6: <-> | R6: <->
A7: 6 | B7: I | D7: =IF(Igralke!$I$12=" / ",CONCATENATE("Seed #",Igralke!$A$12),Igralke!$I$12) -> Anžin/Ficko | E7: vs | F7: =IF(Igralke!$I$23=" / ",CONCATENATE("Seed #",Igralke!$A$23),Igralke!$I$23) -> Seed #22 | G7: 2 | H7: <-> | I7: 0 | L7: <-> | O7: <-> | R7: <->
A8: 7 | B8: I | D8: =IF(Igralke!$I$11=" / ",CONCATENATE("Seed #",Igralke!$A$11),Igralke!$I$11) -> Bukovnik/Četina | E8: vs | F8: =IF(Igralke!$I$24=" / ",CONCATENATE("Seed #",Igralke!$A$24),Igralke!$I$24) -> Seed #23 | G8: 2 | H8: <-> | I8: 0 | L8: <-> | O8: <-> | R8: <->
A9: 8 | B9: I | D9: =IF(Igralke!$I$16=" / ",CONCATENATE("Seed #",Igralke!$A$16),Igralke!$I$16) -> Ljubič/Ljubič | E9: vs | F9: =IF(Igralke!$I$19=" / ",CONCATENATE("Seed #",Igralke!$A$19),Igralke!$I$19) -> Seed #18 | G9: 2 | H9: <-> | I9: 0 | L9: <-> | O9: <-> | R9: <->
A10: 9 | B10: II | C10: 0.39583333 | D10: =IF(Igralke!$I$2=" / ",CONCATENATE("Seed #",Igralke!$A$2),Igralke!$I$2) -> Činku/Pirih | E10: vs | F10: =IF($G$2=$I$2,CONCATENATE("Winner Match #",$A$2),IF($G$2>$I$2,$D$2,$F$2)) -> Kolmanič/Bakan | G10: 0 | H10: <-> | I10: 2 | J10: 2 | K10: 8 | L10: <-> | M10: 15 | N10: 10 | O10: <-> | P10: 15 | R10: <->
A11: =SUM(A10,1) -> 10 | B11: II | C11: 0.375 | D11: =IF($G$3=$I$3,CONCATENATE("Winner Match #",$A$3),IF($G$3>$I$3,$D$3,$F$3)) -> Sajovic/Stojanović | E11: vs | F11: =IF(Igralke!$I$9=" / ",CONCATENATE("Seed #",Igralke!$A$9),Igralke!$I$9) -> Vergelj/Primožič | G11: =IF(K11=M11,"",SUM(IF(K11>M11,1,0),IF(N11>P11,1,0),IF(Q11<=S11,0,1))) -> 0 | H11: <-> | I11: =IF(K11=M11,"",SUM(IF(K11<M11,1,0),IF(N11<P11,1,0),IF(Q11>=S11,0,1))) -> 2 | J11: 1 | K11: 16 | L11: <-> | M11: 18 | N11: 12 | O11: <-> | P11: 15 | R11: <->
A12: =SUM(A11,1) -> 11 | B12: II | C12: 0.39583333 | D12: =IF(Igralke!$I$6=" / ",CONCATENATE("Seed #",Igralke!$A$6),Igralke!$I$6) -> Gorenc Valenta/Torej | E12: vs | F12: =IF($G$4=$I$4,CONCATENATE("Winner Match #",$A$4),IF($G$4>$I$4,$D$4,$F$4)) -> Trček/Pangerc | G12: 2 | H12: <-> | I12: 0 | J12: 2 | K12: 15 | L12: <-> | M12: 9 | N12: 15 | O12: <-> | P12: 7 | R12: <->
A13: =SUM(A12,1) -> 12 | B13: II | C13: 0.41666667 | D13: =IF($G$5=$I$5,CONCATENATE("Winner Match #",$A$5),IF($G$5>$I$5,$D$5,$F$5)) -> Auda/Zore | E13: vs | F13: =IF(Igralke!$I$5=" / ",CONCATENATE("Seed #",Igralke!$A$5),Igralke!$I$5) -> Ferk/Pečovnik | G13: 0 | H13: <-> | I13: 2 | J13: 1 | K13: 9 | L13: <-> | M13: 15 | N13: 6 | O13: <-> | P13: 15 | R13: <->
A14: =SUM(A13,1) -> 13 | B14: II | C14: 0.41666667 | D14: =IF(Igralke!$I$4=" / ",CONCATENATE("Seed #",Igralke!$A$4),Igralke!$I$4) -> Pintar/Hrovat | E14: vs | F14: =IF($G$6=$I$6,CONCATENATE("Winner Match #",$A$6),IF($G$6>$I$6,$D$6,$F$6)) -> Božiček/Kenda | G14: 2 | H14: <-> | I14: 0 | J14: 2 | K14: 15 | L14: <-> | M14: 9 | N14: 15 | O14: <-> | P14: 8 | R14: <->
A15: =SUM(A14,1) -> 14 | B15: II | C15: 0.4375 | D15: =IF($G$7=$I$7,CONCATENATE("Winner Match #",$A$7),IF($G$7>$I$7,$D$7,$F$7)) -> Anžin/Ficko | E15: vs | F15: =IF(Igralke!$I$7=" / ",CONCATENATE("Seed #",Igralke!$A$7),Igralke!$I$7) -> Bakan/Strle | G15: 0 | H15: <-> | I15: 2 | J15: 2 | K15: 13 | L15: <-> | M15: 15 | N15: 10 | O15: <-> | P15: 15 | R15: <->
A16: =SUM(A15,1) -> 15 | B16: II | C16: 0.4375 | D16: =IF(Igralke!$I$8=" / ",CONCATENATE("Seed #",Igralke!$A$8),Igralke!$I$8) -> Reflak/Reflak | E16: vs | F16: =IF($G$8=$I$8,CONCATENATE("Winner Match #",$A$8),IF($G$8>$I$8,$D$8,$F$8)) -> Bukovnik/Četina | G16: 2 | H16: <-> | I16: 0 | J16: 1 | K16: 15 | L16: <-> | M16: 9 | N16: 16 | O16: <-> | P16: 14 | R16: <->
A17: =SUM(A16,1) -> 16 | B17: II | C17: 0.45833333 | D17: =IF($G$9=$I$9,CONCATENATE("Winner Match #",$A$9),IF($G$9>$I$9,$D$9,$F$9)) -> Ljubič/Ljubič | E17: vs | F17: =IF(Igralke!$I$3=" / ",CONCATENATE("Seed #",Igralke!$A$3),Igralke!$I$3) -> Plot/Železnik | G17: =IF(K17=M17,"",SUM(IF(K17>M17,1,0),IF(N17>P17,1,0),IF(Q17<=S17,0,1))) -> 0 | H17: <-> | I17: =IF(K17=M17,"",SUM(IF(K17<M17,1,0),IF(N17<P17,1,0),IF(Q17>=S17,0,1))) -> 2 | J17: 2 | K17: 5 | L17: <-> | M17: 15 | N17: 3 | O17: <-> | P17: 15 | R17: <->
A18: 17 | B18: 17 | D18: =IF($G$9=$I$9,CONCATENATE("Loser Match #",$A$9),IF($G$9<$I$9,$D$9,$F$9)) -> Seed #18 | E18: vs | F18: =IF($G$10=$I$10,CONCATENATE("Loser Match #",$A$10),IF($G$10<$I$10,$D$10,$F$10)) -> Činku/Pirih | G18: 0 | H18: <-> | I18: 2 | L18: <-> | O18: <-> | R18: <->
A19: 18 | B19: 17 | D19: =IF($G$11=$I$11,CONCATENATE("Loser Match #",$A$11),IF($G$11<$I$11,$D$11,$F$11)) -> Sajovic/Stojanović | E19: vs | F19: =IF($G$8=$I$8,CONCATENATE("Loser Match #",$A$8),IF($G$8<$I$8,$D$8,$F$8)) -> Seed #23 | G19: 2 | H19: <-> | I19: 0 | L19: <-> | O19: <-> | R19: <->
A20: 19 | B20: 17 | D20: =IF($G$7=$I$7,CONCATENATE("Loser Match #",$A$7),IF($G$7<$I$7,$D$7,$F$7)) -> Seed #22 | E20: vs | F20: =IF($G$12=$I$12,CONCATENATE("Loser Match #",$A$12),IF($G$12<$I$12,$D$12,$F$12)) -> Trček/Pangerc | G20: 0 | H20: <-> | I20: 2 | L20: <-> | O20: <-> | R20: <->
A21: 20 | B21: 17 | D21: =IF($G$13=$I$13,CONCATENATE("Loser Match #",$A$13),IF($G$13<$I$13,$D$13,$F$13)) -> Auda/Zore | E21: vs | F21: =IF($G$6=$I$6,CONCATENATE("Loser Match #",$A$6),IF($G$6<$I$6,$D$6,$F$6)) -> Seed #19 | G21: 2 | H21: <-> | I21: 0 | L21: <-> | O21: <-> | R21: <->
A22: 21 | B22: 17 | D22: =IF($G$5=$I$5,CONCATENATE("Loser Match #",$A$5),IF($G$5<$I$5,$D$5,$F$5)) -> Seed #20 | E22: vs | F22: =IF($G$14=$I$14,CONCATENATE("Loser Match #",$A$14),IF($G$14<$I$14,$D$14,$F$14)) -> Božiček/Kenda | G22: 0 | H22: <-> | I22: 2 | L22: <-> | O22: <-> | R22: <->
A23: 22 | B23: 17 | D23: =IF($G$15=$I$15,CONCATENATE("Loser Match #",$A$15),IF($G$15<$I$15,$D$15,$F$15)) -> Anžin/Ficko | E23: vs | F23: =IF($G$4=$I$4,CONCATENATE("Loser Match #",$A$4),IF($G$4<$I$4,$D$4,$F$4)) -> Seed #21 | G23: 2 | H23: <-> | I23: 0 | L23: <-> | O23: <-> | R23: <->
A24: 23 | B24: 17 | D24: =IF($G$3=$I$3,CONCATENATE("Loser Match #",$A$3),IF($G$3<$I$3,$D$3,$F$3)) -> Seed #24 | E24: vs | F24: =IF($G$16=$I$16,CONCATENATE("Loser Match #",$A$16),IF($G$16<$I$16,$D$16,$F$16)) -> Bukovnik/Četina | G24: 0 | H24: <-> | I24: 2 | L24: <-> | O24: <-> | R24: <->
A25: 24 | B25: 17 | C25: 0.45833333 | D25: =IF($G$17=$I$17,CONCATENATE("Loser Match #",$A$17),IF($G$17<$I$17,$D$17,$F$17)) -> Ljubič/Ljubič | E25: vs | F25: =IF($G$2=$I$2,CONCATENATE("Loser Match #",$A$2),IF($G$2<$I$2,$D$2,$F$2)) -> Gašperlin/Adrovič Flisar | G25: 0 | H25: <-> | I25: 2 | J25: 2 | K25: 5 | L25: <-> | M25: 15 | N25: 6 | O25: <-> | P25: 15 | R25: <->
A26: 25 | B26: III | C26: 0.47916667 | D26: =IF($G$10=$I$10,CONCATENATE("Winner Match #",$A$10),IF($G$10>$I$10,$D$10,$F$10)) -> Kolmanič/Bakan | E26: vs | F26: =IF($G$11=$I$11,CONCATENATE("Winner Match #",$A$11),IF($G$11>$I$11,$D$11,$F$11)) -> Vergelj/Primožič | G26: 2 | H26: <-> | I26: 0 | J26: 1 | K26: 15 | L26: <-> | M26: 5 | N26: 15 | O26: <-> | P26: 5 | R26: <->
A27: =SUM(A26,1) -> 26 | B27: III | C27: 0.47916667 | D27: =IF($G$12=$I$12,CONCATENATE("Winner Match #",$A$12),IF($G$12>$I$12,$D$12,$F$12)) -> Gorenc Valenta/Torej | E27: vs | F27: =IF($G$13=$I$13,CONCATENATE("Winner Match #",$A$13),IF($G$13>$I$13,$D$13,$F$13)) -> Ferk/Pečovnik | G27: 1 | H27: <-> | I27: 2 | J27: 1 | K27: 15 | L27: <-> | M27: 5 | N27: 9 | O27: <-> | P27: 15 | Q27: 6 | R27: <-> | S27: 11
A28: =SUM(A27,1) -> 27 | B28: III | C28: 0.5 | D28: =IF($G$14=$I$14,CONCATENATE("Winner Match #",$A$14),IF($G$14>$I$14,$D$14,$F$14)) -> Pintar/Hrovat | E28: vs | F28: =IF($G$15=$I$15,CONCATENATE("Winner Match #",$A$15),IF($G$15>$I$15,$D$15,$F$15)) -> Bakan/Strle | G28: 0 | H28: <-> | I28: 2 | J28: 1 | K28: 9 | L28: <-> | M28: 15 | N28: 9 | O28: <-> | P28: 15 | R28: <->
A29: =SUM(A28,1) -> 28 | B29: III | C29: 0.5 | D29: =IF($G$16=$I$16,CONCATENATE("Winner Match #",$A$16),IF($G$16>$I$16,$D$16,$F$16)) -> Reflak/Reflak | E29: vs | F29: =IF($G$17=$I$17,CONCATENATE("Winner Match #",$A$17),IF($G$17>$I$17,$D$17,$F$17)) -> Plot/Železnik | G29: 2 | H29: <-> | I29: 0 | J29: 2 | K29: 15 | L29: <-> | M29: 9 | N29: 15 | O29: <-> | P29: 11 | R29: <->
A30: 29 | B30: 13 | C30: 0.52083333 | D30: =IF($G$25=$I$25,CONCATENATE("Winner Match #",$A$25),IF($G$25>$I$25,$D$25,$F$25)) -> Gašperlin/Adrovič Flisar | E30: vs | F30: =IF($G$24=$I$24,CONCATENATE("Winner Match #",$A$24),IF($G$24>$I$24,$D$24,$F$24)) -> Bukovnik/Četina | G30: 0 | H30: <-> | I30: 2 | J30: 1 | K30: 6 | L30: <-> | M30: 15 | N30: 12 | O30: <-> | P30: 15 | R30: <->
A31: 30 | B31: 13 | C31: 0.52083333 | D31: =IF($G$23=$I$23,CONCATENATE("Winner Match #",$A$23),IF($G$23>$I$23,$D$23,$F$23)) -> Anžin/Ficko | E31: vs | F31: =IF($G$22=$I$22,CONCATENATE("Winner Match #",$A$22),IF($G$22>$I$22,$D$22,$F$22)) -> Božiček/Kenda | G31: 2 | H31: <-> | I31: 0 | J31: 2 | K31: 15 | L31: <-> | M31: 8 | N31: 15 | O31: <-> | P31: 6 | R31: <->
A32: 31 | B32: 13 | C32: 0.54166667 | D32: =IF($G$21=$I$21,CONCATENATE("Winner Match #",$A$21),IF($G$21>$I$21,$D$21,$F$21)) -> Auda/Zore | E32: vs | F32: =IF($G$20=$I$20,CONCATENATE("Winner Match #",$A$20),IF($G$20>$I$20,$D$20,$F$20)) -> Trček/Pangerc | G32: 2 | H32: <-> | I32: 0 | J32: 1 | K32: 15 | L32: <-> | M32: 12 | N32: 17 | O32: <-> | P32: 15 | R32: <->
A33: 32 | B33: 13 | C33: 0.54166667 | D33: =IF($G$19=$I$19,CONCATENATE("Winner Match #",$A$19),IF($G$19>$I$19,$D$19,$F$19)) -> Sajovic/Stojanović | E33: vs | F33: =IF($G$18=$I$18,CONCATENATE("Winner Match #",$A$18),IF($G$18>$I$18,$D$18,$F$18)) -> Činku/Pirih | G33: 0 | H33: <-> | I33: 2 | J33: 2 | K33: 4 | L33: <-> | M33: 15 | N33: 5 | O33: <-> | P33: 15 | R33: <->
A34: 33 | B34: 9 | C34: 0.5625 | D34: =IF($G$30=$I$30,CONCATENATE("Winner Match #",$A$30),IF($G$30>$I$30,$D$30,$F$30)) -> Bukovnik/Četina | E34: vs | F34: =IF($G$27=$I$27,CONCATENATE("Loser Match #",$A$27),IF($G$27<$I$27,$D$27,$F$27)) -> Gorenc Valenta/Torej | G34: 2 | H34: <-> | I34: 1 | J34: 1 | K34: 14 | L34: <-> | M34: 16 | N34: 15 | O34: <-> | P34: 9 | Q34: 11 | R34: <-> | S34: 5
A35: =SUM(A34,1) -> 34 | B35: 9 | C35: 0.5625 | D35: =IF($G$31=$I$31,CONCATENATE("Winner Match #",$A$31),IF($G$31>$I$31,$D$31,$F$31)) -> Anžin/Ficko | E35: vs | F35: =IF($G$26=$I$26,CONCATENATE("Loser Match #",$A$26),IF($G$26<$I$26,$D$26,$F$26)) -> Vergelj/Primožič | G35: 2 | H35: <-> | I35: 0 | J35: 2 | K35: 15 | L35: <-> | M35: 11 | N35: 15 | O35: <-> | P35: 9 | R35: <->
A36: =SUM(A35,1) -> 35 | B36: 9 | C36: 0.58333333 | D36: =IF($G$32=$I$32,CONCATENATE("Winner Match #",$A$32),IF($G$32>$I$32,$D$32,$F$32)) -> Auda/Zore | E36: vs | F36: =IF($G$29=$I$29,CONCATENATE("Loser Match #",$A$29),IF($G$29<$I$29,$D$29,$F$29)) -> Plot/Železnik | G36: 0 | H36: <-> | I36: 2 | J36: 1 | K36: 3 | L36: <-> | M36: 15 | N36: 9 | O36: <-> | P36: 15 | R36: <->
A37: =SUM(A36,1) -> 36 | B37: 9 | C37: 0.58333333 | D37: =IF($G$33=$I$33,CONCATENATE("Winner Match #",$A$33),IF($G$33>$I$33,$D$33,$F$33)) -> Činku/Pirih | E37: vs | F37: =IF($G$28=$I$28,CONCATENATE("Loser Match #",$A$28),IF($G$28<$I$28,$D$28,$F$28)) -> Pintar/Hrovat | G37: 2 | H37: <-> | I37: 0 | J37: 2 | K37: 15 | L37: <-> | M37: 12 | N37: 15 | O37: <-> | P37: 13 | R37: <->
A38: =SUM(A37,1) -> 37 | B38: IV | C38: 0.60416667 | D38: =IF($G$26=$I$26,CONCATENATE("Winner Match #",$A$26),IF($G$26>$I$26,$D$26,$F$26)) -> Kolmanič/Bakan | E38: vs | F38: =IF($G$27=$I$27,CONCATENATE("Winner Match #",$A$27),IF($G$27>$I$27,$D$27,$F$27)) -> Ferk/Pečovnik | G38: 2 | H38: <-> | I38: 0 | J38: 1 | K38: 15 | L38: <-> | M38: 8 | N38: 15 | O38: <-> | P38: 12 | R38: <->
A39: =SUM(A38,1) -> 38 | B39: IV | C39: 0.60416667 | D39: =IF($G$28=$I$28,CONCATENATE("Winner Match #",$A$28),IF($G$28>$I$28,$D$28,$F$28)) -> Bakan/Strle | E39: vs | F39: =IF($G$29=$I$29,CONCATENATE("Winner Match #",$A$29),IF($G$29>$I$29,$D$29,$F$29)) -> Reflak/Reflak | G39: 1 | H39: <-> | I39: 2 | J39: 2 | K39: 15 | L39: <-> | M39: 10 | N39: 9 | O39: <-> | P39: 15 | Q39: 12 | R39: <-> | S39: 14
A40: =SUM(A39,1) -> 39 | B40: 7 | C40: 0.625 | D40: =IF($G$34=$I$34,CONCATENATE("Winner Match #",$A$34),IF($G$34>$I$34,$D$34,$F$34)) -> Bukovnik/Četina | E40: vs | F40: =IF($G$35=$I$35,CONCATENATE("Winner Match #",$A$35),IF($G$35>$I$35,$D$35,$F$35)) -> Anžin/Ficko | G40: =IF(K40=M40,"",SUM(IF(K40>M40,1,0),IF(N40>P40,1,0),IF(Q40<=S40,0,1))) -> 2 | H40: <-> | I40: =IF(K40=M40,"",SUM(IF(K40<M40,1,0),IF(N40<P40,1,0),IF(Q40>=S40,0,1))) -> 0 | J40: 1 | K40: 15 | L40: <-> | M40: 9 | N40: 15 | O40: <-> | P40: 7 | R40: <->
...

Sheet Tabela
B1: =CONCATENATE(Rezultati!$D$10," ") -> Činku/Pirih
L2: =CONCATENATE(Rezultati!$D$25," ") -> Ljubič/Ljubič
A3: =CONCATENATE(Rezultati!$F$2," ") -> Kolmanič/Bakan | B3: =CONCATENATE("",Rezultati!$A$10,"") -> 9 | C3: =CONCATENATE(Rezultati!$D$26," ") -> Kolmanič/Bakan
A4: =CONCATENATE("(",Rezultati!$I$2," : ",Rezultati!$G$2,")") -> (2 : 0) | B4: =CONCATENATE("(",Rezultati!$G$10," : ",Rezultati!$I$10,")") -> (0 : 2) | K4: =CONCATENATE(Rezultati!$D$30," ") -> Gašperlin/Adrovič Flisar | L4: =CONCATENATE("",Rezultati!$A$25,"") -> 24
A5: =CONCATENATE("",Rezultati!$A$2,"") -> 1 | B5: =CONCATENATE(Rezultati!$F$10," ") -> Kolmanič/Bakan | L5: =CONCATENATE("(",Rezultati!$G$25," : ",Rezultati!$I$25,")") -> (0 : 2)
A6: =CONCATENATE(Rezultati!$D$2," ") -> Gašperlin/Adrovič Flisar | L6: =CONCATENATE(Rezultati!$F$25," ") -> Gašperlin/Adrovič Flisar
C7: =CONCATENATE("",Rezultati!$A$26,"") -> 25 | D7: =CONCATENATE(Rezultati!$D$38," ") -> Kolmanič/Bakan
A8: =CONCATENATE(Rezultati!$D$3," ") -> Sajovic/Stojanović | J8: =CONCATENATE(Rezultati!$D$34," ") -> Bukovnik/Četina | K8: =CONCATENATE("",Rezultati!$A$30,"") -> 29
A9: =CONCATENATE("(",Rezultati!$G$3," : ",Rezultati!$I$3,")") -> (2 : 0) | B9: =CONCATENATE(Rezultati!$D$11," ") -> Sajovic/Stojanović | C9: =CONCATENATE("(",Rezultati!$G$26," : ",Rezultati!$I$26,")") -> (2 : 0)
A10: =CONCATENATE("",Rezultati!$A$3,"") -> 2 | H10: =CONCATENATE(Rezultati!$F$42," ") -> Bakan/Strle | K10: =CONCATENATE("(",Rezultati!$G$30," : ",Rezultati!$I$30,")") -> (0 : 2) | L10: =CONCATENATE(Rezultati!$D$24," ") -> Seed #24
A11: =CONCATENATE(Rezultati!$F$3," ") -> Seed #24 | B11: =CONCATENATE("",Rezultati!$A$11,"") -> 10 | C11: =CONCATENATE(Rezultati!$F$26," ") -> Vergelj/Primožič
B12: =CONCATENATE("(",Rezultati!$G$11," : ",Rezultati!$I$11,")") -> (0 : 2) | F12: Semi Finals | I12: =CONCATENATE(Rezultati!$D$40," ") -> Bukovnik/Četina | J12: =CONCATENATE("",Rezultati!$A$34,"") -> 33 | K12: =CONCATENATE(Rezultati!$F$30," ") -> Bukovnik/Četina | L12: =CONCATENATE("",Rezultati!$A$24,"") -> 23
B13: =CONCATENATE(Rezultati!$F$11," ") -> Vergelj/Primožič | L13: =CONCATENATE("(",Rezultati!$G$24," : ",Rezultati!$I$24,")") -> (0 : 2)
J14: =CONCATENATE("(",Rezultati!$G$34," : ",Rezultati!$I$34,")") -> (2 : 1) | L14: =CONCATENATE(Rezultati!$F$24," ") -> Bukovnik/Četina
D15: =CONCATENATE("",Rezultati!$A$38,"") -> 37 | E15: =CONCATENATE(Rezultati!$D$44," ") -> Kolmanič/Bakan | F15: =CONCATENATE("",Rezultati!$A$44,"") -> 43 | G15: =CONCATENATE(Rezultati!$F$44," ") -> Bakan/Strle | H15: =CONCATENATE("",Rezultati!$A$42,"") -> 41
F16: =CONCATENATE("(",Rezultati!$G$44," : ",Rezultati!$I$44,")") -> (2 : 0) | J16: =CONCATENATE(Rezultati!$F$34," ") -> Gorenc Valenta/Torej
B17: =CONCATENATE(Rezultati!$D$12," ") -> Gorenc Valenta/Torej | D17: =CONCATENATE("(",Rezultati!$G$38," : ",Rezultati!$I$38,")") -> (2 : 0) | H17: =CONCATENATE("(",Rezultati!$I$42," : ",Rezultati!$G$42,")") -> (2 : 1)
L18: =CONCATENATE(Rezultati!$D$23," ") -> Anžin/Ficko
A19: =CONCATENATE(Rezultati!$F$4," ") -> Seed #21 | B19: =CONCATENATE("",Rezultati!$A$12,"") -> 11 | C19: =CONCATENATE(Rezultati!$D$27," ") -> Gorenc Valenta/Torej
A20: =CONCATENATE("(",Rezultati!$I$4," : ",Rezultati!$G$4,")") -> (0 : 2) | B20: =CONCATENATE("(",Rezultati!$G$12," : ",Rezultati!$I$12,")") -> (2 : 0) | H20: =CONCATENATE(Rezultati!$D$42," ") -> Bukovnik/Četina | I20: =CONCATENATE("",Rezultati!$A$40,"") -> 39 | K20: =CONCATENATE(Rezultati!$D$31," ") -> Anžin/Ficko | L20: =CONCATENATE("",Rezultati!$A$23,"") -> 22
A21: =CONCATENATE("",Rezultati!$A$4,"") -> 3 | B21: =CONCATENATE(Rezultati!$F$12," ") -> Trček/Pangerc | L21: =CONCATENATE("(",Rezultati!$G$23," : ",Rezultati!$I$23,")") -> (2 : 0)
A22: =CONCATENATE(Rezultati!$D$4," ") -> Trček/Pangerc | I22: =CONCATENATE("(",Rezultati!$G$40," : ",Rezultati!$I$40,")") -> (2 : 0) | L22: =CONCATENATE(Rezultati!$F$23," ") -> Seed #21
C23: =CONCATENATE("",Rezultati!$A$27,"") -> 26 | D23: =CONCATENATE(Rezultati!$F$38," ") -> Ferk/Pečovnik
A24: =CONCATENATE(Rezultati!$D$5," ") -> Auda/Zore | J24: =CONCATENATE(Rezultati!$D$35," ") -> Anžin/Ficko | K24: =CONCATENATE("",Rezultati!$A$31,"") -> 30
A25: =CONCATENATE("(",Rezultati!$G$5," : ",Rezultati!$I$5,")") -> (2 : 0) | B25: =CONCATENATE(Rezultati!$D$13," ") -> Auda/Zore | C25: =CONCATENATE("(",Rezultati!$G$27," : ",Rezultati!$I$27,")") -> (1 : 2)
A26: =CONCATENATE("",Rezultati!$A$5,"") -> 4 | K26: =CONCATENATE("(",Rezultati!$G$31," : ",Rezultati!$I$31,")") -> (2 : 0) | L26: =CONCATENATE(Rezultati!$D$22," ") -> Seed #20
A27: =CONCATENATE(Rezultati!$F$5," ") -> Seed #20 | B27: =CONCATENATE("",Rezultati!$A$13,"") -> 12 | C27: =CONCATENATE(Rezultati!$F$27," ") -> Ferk/Pečovnik | E27: =CONCATENATE(Rezultati!$D$47," ") -> Kolmanič/Bakan | G27: =CONCATENATE(Rezultati!$D$46," ") -> Bakan/Strle
B28: =CONCATENATE("(",Rezultati!$G$13," : ",Rezultati!$I$13,")") -> (0 : 2) | I28: =CONCATENATE(Rezultati!$F$40," ") -> Anžin/Ficko | J28: =CONCATENATE("",Rezultati!$A$35,"") -> 34 | K28: =CONCATENATE(Rezultati!$F$31," ") -> Božiček/Kenda | L28: =CONCATENATE("",Rezultati!$A$22,"") -> 21
B29: =CONCATENATE(Rezultati!$F$13," ") -> Ferk/Pečovnik | E29: Final | G29: 3./4. Rank | L29: =CONCATENATE("(",Rezultati!$G$22," : ",Rezultati!$I$22,")") -> (0 : 2)
J30: =CONCATENATE("(",Rezultati!$G$35," : ",Rezultati!$I$35,")") -> (2 : 0) | L30: =CONCATENATE(Rezultati!$F$22," ") -> Božiček/Kenda
E31: =CONCATENATE("",Rezultati!$A$47,"") -> 46 | G31: =CONCATENATE("",Rezultati!$A$46,"") -> 45
J32: =CONCATENATE(Rezultati!$F$35," ") -> Vergelj/Primožič
B33: =CONCATENATE(Rezultati!$D$14," ") -> Pintar/Hrovat | E33: =CONCATENATE("(",Rezultati!$G$47," : ",Rezultati!$I$47,")") -> (2 : 0) | G33: =CONCATENATE("(",Rezultati!$G$46," : ",Rezultati!$I$46,")") -> (2 : 1)
L34: =CONCATENATE(Rezultati!$D$21," ") -> Auda/Zore
A35: =CONCATENATE(Rezultati!$F$6," ") -> Seed #19 | B35: =CONCATENATE("",Rezultati!$A$14,"") -> 13 | C35: =CONCATENATE(Rezultati!$D$28," ") -> Pintar/Hrovat | E35: =CONCATENATE(Rezultati!$F$47," ") -> Reflak/Reflak | G35: =CONCATENATE(Rezultati!$F$46," ") -> Plot/Železnik
A36: =CONCATENATE("(",Rezultati!$I$6," : ",Rezultati!$G$6,")") -> (0 : 2) | B36: =CONCATENATE("(",Rezultati!$G$14," : ",Rezultati!$I$14,")") -> (2 : 0) | K36: =CONCATENATE(Rezultati!$D$32," ") -> Auda/Zore | L36: =CONCATENATE("",Rezultati!$A$21,"") -> 20
A37: =CONCATENATE("",Rezultati!$A$6,"") -> 5 | B37: =CONCATENATE(Rezultati!$F$14," ") -> Božiček/Kenda | L37: =CONCATENATE("(",Rezultati!$G$21," : ",Rezultati!$I$21,")") -> (2 : 0)
A38: =CONCATENATE(Rezultati!$D$6," ") -> Božiček/Kenda | L38: =CONCATENATE(Rezultati!$F$21," ") -> Seed #19
C39: =CONCATENATE("",Rezultati!$A$28,"") -> 27 | D39: =CONCATENATE(Rezultati!$D$39," ") -> Bakan/Strle
A40: =CONCATENATE(Rezultati!$D$7," ") -> Anžin/Ficko | J40: =CONCATENATE(Rezultati!$D$36," ") -> Auda/Zore | K40: =CONCATENATE("",Rezultati!$A$32,"") -> 31
...

Sheet Uvrstitev
A1: Finish | B1: Team
A2: 1 | B2: =IF(Rezultati!$G$47=Rezultati!$I$47,"1. Rank",IF(Rezultati!$G$47>Rezultati!$I$47,Rezultati!$D$47,Rezultati!$F$47)) -> Kolmanič/Bakan
A3: =SUM(A2,1) -> 2 | B3: =IF(Rezultati!$G$47=Rezultati!$I$47,"2. Rank",IF(Rezultati!$G$47<Rezultati!$I$47,Rezultati!$D$47,Rezultati!$F$47)) -> Reflak/Reflak
A4: =SUM(A3,1) -> 3 | B4: =IF(Rezultati!$G$46=Rezultati!$I$46,"3. Rank",IF(Rezultati!$G$46>Rezultati!$I$46,Rezultati!$D$46,Rezultati!$F$46)) -> Bakan/Strle
A5: =SUM(A4,1) -> 4 | B5: =IF(Rezultati!$G$46=Rezultati!$I$46,"4. Rank",IF(Rezultati!$G$46<Rezultati!$I$46,Rezultati!$D$46,Rezultati!$F$46)) -> Plot/Železnik
A6: =SUM(A5,1) -> 5 | B6: =IF(Rezultati!$G$42=Rezultati!$I$42,"5. Rank",IF(Rezultati!$G$42<Rezultati!$I$42,Rezultati!$D$42,Rezultati!$F$42)) -> Bukovnik/Četina
A7: 5 | B7: =IF(Rezultati!$G$43=Rezultati!$I$43,"5. Rank",IF(Rezultati!$G$43<Rezultati!$I$43,Rezultati!$D$43,Rezultati!$F$43)) -> Ferk/Pečovnik
A8: 7 | B8: =IF(Rezultati!$G$40=Rezultati!$I$40,"7. Rank",IF(Rezultati!$G$40<Rezultati!$I$40,Rezultati!$D$40,Rezultati!$F$40)) -> Anžin/Ficko
A9: 7 | B9: =IF(Rezultati!$G$41=Rezultati!$I$41,"7. Rank",IF(Rezultati!$G$41<Rezultati!$I$41,Rezultati!$D$41,Rezultati!$F$41)) -> Činku/Pirih
A10: 9 | B10: =IF(Rezultati!$G$34=Rezultati!$I$34,"9. Rank",IF(Rezultati!$G$34<Rezultati!$I$34,Rezultati!$D$34,Rezultati!$F$34)) -> Gorenc Valenta/Torej
A11: 9 | B11: =IF(Rezultati!$G$35=Rezultati!$I$35,"9. Rank",IF(Rezultati!$G$35<Rezultati!$I$35,Rezultati!$D$35,Rezultati!$F$35)) -> Vergelj/Primožič
A12: 9 | B12: =IF(Rezultati!$G$36=Rezultati!$I$36,"9. Rank",IF(Rezultati!$G$36<Rezultati!$I$36,Rezultati!$D$36,Rezultati!$F$36)) -> Auda/Zore
A13: 9 | B13: =IF(Rezultati!$G$37=Rezultati!$I$37,"9. Rank",IF(Rezultati!$G$37<Rezultati!$I$37,Rezultati!$D$37,Rezultati!$F$37)) -> Pintar/Hrovat
A14: 13 | B14: =IF(Rezultati!$G$30=Rezultati!$I$30,"13. Rank",IF(Rezultati!$G$30<Rezultati!$I$30,Rezultati!$D$30,Rezultati!$F$30)) -> Gašperlin/Adrovič Flisar
A15: 13 | B15: =IF(Rezultati!$G$31=Rezultati!$I$31,"13. Rank",IF(Rezultati!$G$31<Rezultati!$I$31,Rezultati!$D$31,Rezultati!$F$31)) -> Božiček/Kenda
A16: 13 | B16: =IF(Rezultati!$G$32=Rezultati!$I$32,"13. Rank",IF(Rezultati!$G$32<Rezultati!$I$32,Rezultati!$D$32,Rezultati!$F$32)) -> Trček/Pangerc
A17: 13 | B17: =IF(Rezultati!$G$33=Rezultati!$I$33,"13. Rank",IF(Rezultati!$G$33<Rezultati!$I$33,Rezultati!$D$33,Rezultati!$F$33)) -> Sajovic/Stojanović
A18: 17 | B18: =IF(Rezultati!$G$25=Rezultati!$I$25,"17. Rank",IF(Rezultati!$G$25>Rezultati!$I$25,Rezultati!$F$25,Rezultati!$D$25)) -> Ljubič/Ljubič
A19: 17 | B19: =IF(Rezultati!$G$24=Rezultati!$I$24,"17. Rank",IF(Rezultati!$G$24>Rezultati!$I$24,Rezultati!$F$24,Rezultati!$D$24)) -> Seed #24
A20: 17 | B20: =IF(Rezultati!$G$23=Rezultati!$I$23,"17. Rank",IF(Rezultati!$G$23>Rezultati!$I$23,Rezultati!$F$23,Rezultati!$D$23)) -> Seed #21
A21: 17 | B21: =IF(Rezultati!$G$22=Rezultati!$I$22,"17. Rank",IF(Rezultati!$G$22>Rezultati!$I$22,Rezultati!$F$22,Rezultati!$D$22)) -> Seed #20
A22: 17 | B22: =IF(Rezultati!$G$21=Rezultati!$I$21,"17. Rank",IF(Rezultati!$G$21>Rezultati!$I$21,Rezultati!$F$21,Rezultati!$D$21)) -> Seed #19
A23: 17 | B23: =IF(Rezultati!$G$20=Rezultati!$I$20,"17. Rank",IF(Rezultati!$G$20>Rezultati!$I$20,Rezultati!$F$20,Rezultati!$D$20)) -> Seed #22
A24: 17 | B24: =IF(Rezultati!$G$19=Rezultati!$I$19,"17. Rank",IF(Rezultati!$G$19>Rezultati!$I$19,Rezultati!$F$19,Rezultati!$D$19)) -> Seed #23
A25: 17 | B25: =IF(Rezultati!$G$18=Rezultati!$I$18,"17. Rank",IF(Rezultati!$G$18>Rezultati!$I$18,Rezultati!$F$18,Rezultati!$D$18)) -> Seed #18
